BEGIN:VCALENDAR
VERSION:2.0
PRODID:icalendar-ruby
CALSCALE:GREGORIAN
METHOD:PUBLISH
BEGIN:VEVENT
DTSTAMP:20260421T110034Z
UID:47-212604@holyshepherd.com
DTSTART:20260421T160000Z
DTEND:20260421T170000Z
CLASS:PUBLIC
CREATED:20260416T140724
DESCRIPTION:
LAST-MODIFIED:20260416T140724
LOCATION:Library
SUMMARY:Women's Morning Bible Study (L)
URL;VALUE=URI:https://www.holyshepherd.com/events/womens-morning-bible-stud
 y-l/2026-04-21
ATTACH;FILENAME=Womens-Bible.jpg;FMTTYPE=image/jpeg:https://dq5pwpg1q8ru0.c
 loudfront.net/2026/04/09/22/22/54/b8ed9f7f-b7d5-4cec-9e92-1eac4cdad898/Wom
 ens-Bible.jpg
END:VEVENT
END:VCALENDAR
