BEGIN:VCALENDAR
VERSION:2.0
PRODID:icalendar-ruby
CALSCALE:GREGORIAN
METHOD:PUBLISH
BEGIN:VEVENT
DTSTAMP:20260423T105559Z
UID:27-212620@holyshepherd.com
DTSTART:20260508T160000Z
DTEND:20260508T170000Z
CLASS:PUBLIC
CREATED:20260416T140912
DESCRIPTION:
LAST-MODIFIED:20260416T140912
LOCATION:
SUMMARY:Prayer Group for Everyone (L)
URL;VALUE=URI:https://www.holyshepherd.com/events/prayer-group-for-everyone
 -l/2026-05-08
ATTACH;FILENAME=Prayer-Group.png;FMTTYPE=image/png:https://dq5pwpg1q8ru0.cl
 oudfront.net/2026/04/09/22/07/09/566d3ef5-14d6-408f-9b96-d0c6dc9ada4a/Pray
 er-Group.png
END:VEVENT
END:VCALENDAR
