BEGIN:VCALENDAR
VERSION:2.0
PRODID:icalendar-ruby
CALSCALE:GREGORIAN
METHOD:PUBLISH
BEGIN:VEVENT
DTSTAMP:20260421T105241Z
UID:57-212605@holyshepherd.com
DTSTART:20260422T003000Z
DTEND:20260422T013000Z
CLASS:PUBLIC
CREATED:20260416T140750
DESCRIPTION:
LAST-MODIFIED:20260416T140750
LOCATION:Library
SUMMARY:Matthew25 Care Team (L)
URL;VALUE=URI:https://www.holyshepherd.com/events/matthew25-care-team-l/202
 6-04-21
ATTACH;FILENAME=matthew_25.jpg;FMTTYPE=image/jpeg:https://dq5pwpg1q8ru0.clo
 udfront.net/2026/04/15/16/55/14/d1856563-a8f2-453d-87ee-510fe05a429c/matth
 ew_25.jpg
END:VEVENT
END:VCALENDAR
