BEGIN:VCALENDAR
VERSION:2.0
PRODID:icalendar-ruby
CALSCALE:GREGORIAN
METHOD:PUBLISH
BEGIN:VEVENT
DTSTAMP:20260421T093255Z
UID:42-212457@holyshepherd.com
DTSTART:20260416T143000Z
DTEND:20260416T153000Z
CLASS:PUBLIC
CREATED:20260409T145241
DESCRIPTION:
LAST-MODIFIED:20260409T145241
LOCATION:
SUMMARY:Lay-led Lectionary Study (Zoom)
URL;VALUE=URI:https://www.holyshepherd.com/events/lay-led-lectionary-study-
 zoom/2026-04-16
ATTACH;FILENAME=zoom.png;FMTTYPE=image/png:https://dq5pwpg1q8ru0.cloudfront
 .net/2026/04/09/20/52/41/8b978287-cf84-4f87-9d17-57651ac0630c/zoom.png
END:VEVENT
END:VCALENDAR
