BEGIN:VCALENDAR
VERSION:2.0
PRODID:icalendar-ruby
CALSCALE:GREGORIAN
METHOD:PUBLISH
BEGIN:VEVENT
DTSTAMP:20260425T120117Z
UID:37-212621@holyshepherd.com
DTSTART:20260426T230000Z
DTEND:20260427T000000Z
CLASS:PUBLIC
CREATED:20260416T140942
DESCRIPTION:
LAST-MODIFIED:20260416T140942
LOCATION:Fellowship Hall
SUMMARY:HSLC Duplicate Bridge Group (FH)
URL;VALUE=URI:https://www.holyshepherd.com/events/hslc-duplicate-bridge-gro
 up-fh/2026-04-26
ATTACH;FILENAME=bridge-group.jpg;FMTTYPE=image/jpeg:https://dq5pwpg1q8ru0.c
 loudfront.net/2026/04/14/16/12/21/53235236-26bc-4908-92a2-22689675ed83/bri
 dge-group.jpg
END:VEVENT
END:VCALENDAR
