BEGIN:VCALENDAR
VERSION:2.0
PRODID:icalendar-ruby
CALSCALE:GREGORIAN
METHOD:PUBLISH
BEGIN:VEVENT
DTSTAMP:20260421T231540Z
UID:35-212329@holyshepherd.com
DTSTART:20261018T170000Z
DTEND:20261018T180000Z
CLASS:PUBLIC
CREATED:20260409T125640
DESCRIPTION:Fellowship (FH)
LAST-MODIFIED:20260409T125640
LOCATION:Fellowship Hall
SUMMARY:Fellowship (FH)
URL;VALUE=URI:https://www.holyshepherd.com/events/fellowship-fh/2026-10-18
END:VEVENT
END:VCALENDAR
