BEGIN:VCALENDAR
VERSION:2.0
PRODID:icalendar-ruby
CALSCALE:GREGORIAN
METHOD:PUBLISH
BEGIN:VEVENT
DTSTAMP:20260421T182230Z
UID:35-212326@holyshepherd.com
DTSTART:20260927T170000Z
DTEND:20260927T180000Z
CLASS:PUBLIC
CREATED:20260409T125640
DESCRIPTION:Fellowship (FH)
LAST-MODIFIED:20260409T125640
LOCATION:Fellowship Hall
SUMMARY:Fellowship (FH)
URL;VALUE=URI:https://www.holyshepherd.com/events/fellowship-fh/2026-09-27
END:VEVENT
END:VCALENDAR
