BEGIN:VCALENDAR
VERSION:2.0
PRODID:icalendar-ruby
CALSCALE:GREGORIAN
METHOD:PUBLISH
BEGIN:VEVENT
DTSTAMP:20260419T130213Z
UID:34-212615@holyshepherd.com
DTSTART:20260507T003000Z
DTEND:20260507T013000Z
CLASS:PUBLIC
CREATED:20260416T140840
DESCRIPTION:
LAST-MODIFIED:20260416T140840
LOCATION:Choir Room
SUMMARY:Chancel Choir (CR)
URL;VALUE=URI:https://www.holyshepherd.com/events/chancel-choir-cr/2026-05-
 06
ATTACH;FILENAME=choir.jpg;FMTTYPE=image/jpeg:https://dq5pwpg1q8ru0.cloudfro
 nt.net/2026/04/14/16/29/34/12fc34eb-b2a3-4648-bea4-1bdc0ab2363f/choir.jpg
END:VEVENT
END:VCALENDAR
