BEGIN:VCALENDAR
VERSION:2.0
PRODID:icalendar-ruby
CALSCALE:GREGORIAN
METHOD:PUBLISH
BEGIN:VEVENT
DTSTAMP:20260420T045525Z
UID:29-212138@holyshepherd.com
DTSTART:20261018T150000Z
DTEND:20261018T160000Z
CLASS:PUBLIC
CREATED:20260409T120151
DESCRIPTION:Adult Education (L)
LAST-MODIFIED:20260409T120151
LOCATION:Library
SUMMARY:Adult Education (L)
URL;VALUE=URI:https://www.holyshepherd.com/events/adult-education-l/2026-10
 -18
END:VEVENT
END:VCALENDAR
